BEGIN:VCALENDAR
VERSION:2.0
PRODID:-//Freethinkers Association of Central Texas - ECPv6.15.20//NONSGML v1.0//EN
CALSCALE:GREGORIAN
METHOD:PUBLISH
X-ORIGINAL-URL:https://freethinkersact.org
X-WR-CALDESC:Events for Freethinkers Association of Central Texas
REFRESH-INTERVAL;VALUE=DURATION:PT1H
X-Robots-Tag:noindex
X-PUBLISHED-TTL:PT1H
BEGIN:VTIMEZONE
TZID:America/Chicago
BEGIN:DAYLIGHT
TZOFFSETFROM:-0600
TZOFFSETTO:-0500
TZNAME:CDT
DTSTART:20250309T080000
END:DAYLIGHT
BEGIN:STANDARD
TZOFFSETFROM:-0500
TZOFFSETTO:-0600
TZNAME:CST
DTSTART:20251102T070000
END:STANDARD
BEGIN:DAYLIGHT
TZOFFSETFROM:-0600
TZOFFSETTO:-0500
TZNAME:CDT
DTSTART:20260308T080000
END:DAYLIGHT
BEGIN:STANDARD
TZOFFSETFROM:-0500
TZOFFSETTO:-0600
TZNAME:CST
DTSTART:20261101T070000
END:STANDARD
BEGIN:DAYLIGHT
TZOFFSETFROM:-0600
TZOFFSETTO:-0500
TZNAME:CDT
DTSTART:20270314T080000
END:DAYLIGHT
BEGIN:STANDARD
TZOFFSETFROM:-0500
TZOFFSETTO:-0600
TZNAME:CST
DTSTART:20271107T070000
END:STANDARD
END:VTIMEZONE
BEGIN:VEVENT
DTSTART;TZID=America/Chicago:20260210T140000
DTEND;TZID=America/Chicago:20260210T160000
DTSTAMP:20260423T142050
CREATED:20251220T195835Z
LAST-MODIFIED:20260111T181025Z
UID:4170-1770732000-1770739200@freethinkersact.org
SUMMARY:Lunch and Discussion at Mamacitas
DESCRIPTION:Join and meet your fellow freethinkers and atheists at a friendly monthly lunch where we talk about most everything.
URL:https://freethinkersact.org/event/lunch-and-discussion-at-mamacitas-6/
LOCATION:Mamacita’s Restaurant\, 8030 I-10\, San Antonio\, TX\, 78230\, US
ATTACH;FMTTYPE=image/jpeg:https://freethinkersact.org/wp-content/uploads/2025/08/4095_image_highres_524684519.jpeg
END:VEVENT
BEGIN:VEVENT
DTSTART;TZID=America/Chicago:20260203T140000
DTEND;TZID=America/Chicago:20260203T160000
DTSTAMP:20260423T142050
CREATED:20251220T195835Z
LAST-MODIFIED:20260111T181025Z
UID:4169-1770127200-1770134400@freethinkersact.org
SUMMARY:Lunch and Discussion at Mamacitas
DESCRIPTION:Join and meet your fellow freethinkers and atheists at a friendly monthly lunch where we talk about most everything.
URL:https://freethinkersact.org/event/lunch-and-discussion-at-mamacitas-5/
LOCATION:Mamacita’s Restaurant\, 8030 I-10\, San Antonio\, TX\, 78230\, US
ATTACH;FMTTYPE=image/jpeg:https://freethinkersact.org/wp-content/uploads/2025/08/4095_image_highres_524684519.jpeg
END:VEVENT
BEGIN:VEVENT
DTSTART;TZID=America/Chicago:20260127T140000
DTEND;TZID=America/Chicago:20260127T160000
DTSTAMP:20260423T142050
CREATED:20251220T195835Z
LAST-MODIFIED:20260111T181025Z
UID:4168-1769522400-1769529600@freethinkersact.org
SUMMARY:Lunch and Discussion at Mamacitas
DESCRIPTION:Join and meet your fellow freethinkers and atheists at a friendly monthly lunch where we talk about most everything.
URL:https://freethinkersact.org/event/lunch-and-discussion-at-mamacitas-4/
LOCATION:Mamacita’s Restaurant\, 8030 I-10\, San Antonio\, TX\, 78230\, US
ATTACH;FMTTYPE=image/jpeg:https://freethinkersact.org/wp-content/uploads/2025/08/4095_image_highres_524684519.jpeg
END:VEVENT
BEGIN:VEVENT
DTSTART;TZID=America/Chicago:20260124T100000
DTEND;TZID=America/Chicago:20260124T140000
DTSTAMP:20260423T142050
CREATED:20251220T195829Z
LAST-MODIFIED:20260111T181025Z
UID:4166-1769248800-1769263200@freethinkersact.org
SUMMARY:FACT DIRECT - Haven For Hope (SA Food Bank Kitchen) Age 15+
DESCRIPTION:****Click Going and you MUST signup here on the link below:\nhttps://safoodbank.tfaforms.net/35?ReservationId=a1EUO0000023yxl \nIf the volunteer slots fill up\, shoot an email to FACT@FreethinkersACT.org and we’ll get you added\, no problem at all!! \n\nCome along as we help prepare and serve food for the residents of the Haven for Hope transformational center. From making sandwiches and salads to cutting eggs and tomatoes\, it’s something different each time. \nAttire is closed-toed shoes and a t-shirt with sleeves (long or short). Volunteer slots are limited so sign up at the link ASAP. \n-From Frio St. turn onto Leal and then turn left on N. San Marcos. Go straight until you get to the Red Gate. -Once you arrive at the Red gate\, press the button on the speaker and let them know that you are there to volunteer at the San Antonio Food Bank kitchen. -Continue through the gate and park in an open space in the lot on your right. Walk away from the gate and around to the loading dock. Do not exit the parking lot. When you arrive at the loading dock\, proceed up the ramp on the left side of the dock. You will then see a large GREEN door to enter. Be sure to sign in before you begin your volunteer shift. \nDIRECT (Direct Impact Relief Efforts for Community Transformation) is a community service and local impact program of the Freethinkers Association of Central Texas. \nhttps://freethinkersact.org/donate/
URL:https://freethinkersact.org/event/fact-direct-haven-for-hope-sa-food-bank-kitchen-age-15-2/
LOCATION:Haven For Hope – Gate to Food Bank\, 701 North San Marcos\, San Antonio\, TX\, 78207\, US
ATTACH;FMTTYPE=image/jpeg:https://freethinkersact.org/wp-content/uploads/2025/12/4166_image_highres_531882059-scaled.jpeg
END:VEVENT
BEGIN:VEVENT
DTSTART;TZID=America/Chicago:20260124T090000
DTEND;TZID=America/Chicago:20260124T100000
DTSTAMP:20260423T142050
CREATED:20251220T195829Z
LAST-MODIFIED:20260111T181025Z
UID:4165-1769245200-1769248800@freethinkersact.org
SUMMARY:Breakfast at Denny's 4510 Fredericksburg Road
DESCRIPTION:Join us for a nice breakfast and bring a topic for discussion.
URL:https://freethinkersact.org/event/breakfast-at-dennys-4510-fredericksburg-road-2/
LOCATION:Denny’s meeting Room\, 4510 Fredericksburg Rd\, San Antonio\, TX\, US
ATTACH;FMTTYPE=image/jpeg:https://freethinkersact.org/wp-content/uploads/2025/06/4038_image_highres_523980293.jpeg
END:VEVENT
END:VCALENDAR