BEGIN:VCALENDAR
VERSION:2.0
PRODID:-//Freethinkers Association of Central Texas - ECPv6.15.20//NONSGML v1.0//EN
CALSCALE:GREGORIAN
METHOD:PUBLISH
X-ORIGINAL-URL:https://freethinkersact.org
X-WR-CALDESC:Events for Freethinkers Association of Central Texas
REFRESH-INTERVAL;VALUE=DURATION:PT1H
X-Robots-Tag:noindex
X-PUBLISHED-TTL:PT1H
BEGIN:VTIMEZONE
TZID:America/New_York
BEGIN:DAYLIGHT
TZOFFSETFROM:-0500
TZOFFSETTO:-0400
TZNAME:EDT
DTSTART:20250309T070000
END:DAYLIGHT
BEGIN:STANDARD
TZOFFSETFROM:-0400
TZOFFSETTO:-0500
TZNAME:EST
DTSTART:20251102T060000
END:STANDARD
BEGIN:DAYLIGHT
TZOFFSETFROM:-0500
TZOFFSETTO:-0400
TZNAME:EDT
DTSTART:20260308T070000
END:DAYLIGHT
BEGIN:STANDARD
TZOFFSETFROM:-0400
TZOFFSETTO:-0500
TZNAME:EST
DTSTART:20261101T060000
END:STANDARD
BEGIN:DAYLIGHT
TZOFFSETFROM:-0500
TZOFFSETTO:-0400
TZNAME:EDT
DTSTART:20270314T070000
END:DAYLIGHT
BEGIN:STANDARD
TZOFFSETFROM:-0400
TZOFFSETTO:-0500
TZNAME:EST
DTSTART:20271107T060000
END:STANDARD
END:VTIMEZONE
BEGIN:VEVENT
DTSTART;TZID=America/New_York:20260530T150000
DTEND;TZID=America/New_York:20260530T190000
DTSTAMP:20260423T141157
CREATED:20260418T032859Z
LAST-MODIFIED:20260418T032859Z
UID:4260-1780153200-1780167600@freethinkersact.org
SUMMARY:FACT DIRECT - Haven For Hope (SA Food Bank Kitchen) Age 15+
DESCRIPTION:****Click Going and you MUST signup here on the link below:\nhttps://safoodbank.tfaforms.net/35?ReservationId=a1EUO000003PQs1\nIf the volunteer slots fill up\, shoot an email to FACT@FreethinkersACT.org and we’ll get you added. \n\nCome along as we help prepare and serve food for the residents of the Haven for Hope transformational center. From making sandwiches and salads to cutting eggs and tomatoes\, it’s something different each time. \nAttire is closed-toed shoes and a t-shirt with sleeves (long or short). Volunteer slots are limited so sign up at the link ASAP. \n-From Frio St. turn onto Leal and then turn left on N. San Marcos. Go straight until you get to the Red Gate. -Once you arrive at the Red gate\, press the button on the speaker and let them know that you are there to volunteer at the San Antonio Food Bank kitchen. -Continue through the gate and park in an open space in the lot on your right. Walk away from the gate and around to the loading dock. Do not exit the parking lot. When you arrive at the loading dock\, proceed up the ramp on the left side of the dock. You will then see a large GREEN door to enter. Be sure to sign in before you begin your volunteer shift. \nDIRECT (Direct Impact Relief Efforts for Community Transformation) is a community service and local impact program of the Freethinkers Association of Central Texas. \nhttps://freethinkersact.org/donate/
URL:https://freethinkersact.org/event/fact-direct-haven-for-hope-sa-food-bank-kitchen-age-15/
LOCATION:Haven For Hope – Gate to Food Bank\, 701 North San Marcos\, San Antonio\, TX\, 78207\, US
ATTACH;FMTTYPE=image/jpeg:https://freethinkersact.org/wp-content/uploads/2025/08/4117_image_highres_503675714-scaled.jpeg
END:VEVENT
END:VCALENDAR