BEGIN:VCALENDAR
VERSION:2.0
PRODID:-//Freethinkers Association of Central Texas - ECPv6.15.20//NONSGML v1.0//EN
CALSCALE:GREGORIAN
METHOD:PUBLISH
X-ORIGINAL-URL:https://freethinkersact.org
X-WR-CALDESC:Events for Freethinkers Association of Central Texas
REFRESH-INTERVAL;VALUE=DURATION:PT1H
X-Robots-Tag:noindex
X-PUBLISHED-TTL:PT1H
BEGIN:VTIMEZONE
TZID:America/New_York
BEGIN:DAYLIGHT
TZOFFSETFROM:-0500
TZOFFSETTO:-0400
TZNAME:EDT
DTSTART:20250309T070000
END:DAYLIGHT
BEGIN:STANDARD
TZOFFSETFROM:-0400
TZOFFSETTO:-0500
TZNAME:EST
DTSTART:20251102T060000
END:STANDARD
BEGIN:DAYLIGHT
TZOFFSETFROM:-0500
TZOFFSETTO:-0400
TZNAME:EDT
DTSTART:20260308T070000
END:DAYLIGHT
BEGIN:STANDARD
TZOFFSETFROM:-0400
TZOFFSETTO:-0500
TZNAME:EST
DTSTART:20261101T060000
END:STANDARD
BEGIN:DAYLIGHT
TZOFFSETFROM:-0500
TZOFFSETTO:-0400
TZNAME:EDT
DTSTART:20270314T070000
END:DAYLIGHT
BEGIN:STANDARD
TZOFFSETFROM:-0400
TZOFFSETTO:-0500
TZNAME:EST
DTSTART:20271107T060000
END:STANDARD
END:VTIMEZONE
BEGIN:VEVENT
DTSTART;TZID=America/New_York:20260419T140000
DTEND;TZID=America/New_York:20260419T160000
DTSTAMP:20260423T123748
CREATED:20260412T164123Z
LAST-MODIFIED:20260418T032859Z
UID:4251-1776607200-1776614400@freethinkersact.org
SUMMARY:Book discussion: the Great Divide by Cristina Henriquez
DESCRIPTION:TODAY Show Read With Jenna Book Club Pick! \nA powerful novel about the construction of the Panama Canal\, casting light on the unsung people who lived\, loved\, and labored there \nIt is said that the canal will be the greatest feat of engineering in history. But first\, it must be built. For Francisco\, a local fisherman who resents the foreign powers clamoring for a slice of his country\, nothing is more upsetting than the decision of his son\, Omar\, to work as a digger in the excavation zone. But for Omar\, whose upbringing was quiet and lonely\, this job offers a chance to finally find connection.
URL:https://freethinkersact.org/event/book-discussion-the-great-divide-by-cristina-henriquez/
LOCATION:EZ’s Brick Oven & Grill\, 6498 N. New Braunfels Ave\, San Antonio\, TX\, 78209\, US
ATTACH;FMTTYPE=image/jpeg:https://freethinkersact.org/wp-content/uploads/2026/04/4251_image_highres_533292508.jpeg
END:VEVENT
END:VCALENDAR